BEGIN:VCALENDAR
VERSION:2.0
PRODID:-//NVTIM - Nevada Traffic Incident Management - ECPv6.15.20//NONSGML v1.0//EN
CALSCALE:GREGORIAN
METHOD:PUBLISH
X-WR-CALNAME:NVTIM - Nevada Traffic Incident Management
X-ORIGINAL-URL:https://nvtim.com
X-WR-CALDESC:Events for NVTIM - Nevada Traffic Incident Management
REFRESH-INTERVAL;VALUE=DURATION:PT1H
X-Robots-Tag:noindex
X-PUBLISHED-TTL:PT1H
BEGIN:VTIMEZONE
TZID:UTC
BEGIN:STANDARD
TZOFFSETFROM:+0000
TZOFFSETTO:+0000
TZNAME:UTC
DTSTART:20170101T000000
END:STANDARD
END:VTIMEZONE
BEGIN:VEVENT
DTSTART;TZID=UTC:20180830T113000
DTEND;TZID=UTC:20180830T133000
DTSTAMP:20260424T012357
CREATED:20180118T040021Z
LAST-MODIFIED:20180719T050558Z
UID:36281-1535628600-1535635800@nvtim.com
SUMMARY:Southern Nevada TIM Coalition Meeting and Luncheon
DESCRIPTION:Join us for the bimonthly TIM luncheon meeting. Lunch will be provided. \nPlease register by clicking here.
URL:https://nvtim.com/event/southern-nevada-tim-coalition-meeting-and-luncheon-3/
LOCATION:Microsoft Teams
ORGANIZER;CN="Nevada TIM Coalitions":MAILTO:rita.brohman@parsons.com
GEO:36.0709091;-115.2048635
END:VEVENT
END:VCALENDAR