BEGIN:VCALENDAR
VERSION:2.0
PRODID:-//NVTIM - Nevada Traffic Incident Management - ECPv6.15.20//NONSGML v1.0//EN
CALSCALE:GREGORIAN
METHOD:PUBLISH
X-WR-CALNAME:NVTIM - Nevada Traffic Incident Management
X-ORIGINAL-URL:https://nvtim.com
X-WR-CALDESC:Events for NVTIM - Nevada Traffic Incident Management
REFRESH-INTERVAL;VALUE=DURATION:PT1H
X-Robots-Tag:noindex
X-PUBLISHED-TTL:PT1H
BEGIN:VTIMEZONE
TZID:America/Los_Angeles
BEGIN:DAYLIGHT
TZOFFSETFROM:-0800
TZOFFSETTO:-0700
TZNAME:PDT
DTSTART:20210314T100000
END:DAYLIGHT
BEGIN:STANDARD
TZOFFSETFROM:-0700
TZOFFSETTO:-0800
TZNAME:PST
DTSTART:20211107T090000
END:STANDARD
BEGIN:DAYLIGHT
TZOFFSETFROM:-0800
TZOFFSETTO:-0700
TZNAME:PDT
DTSTART:20220313T100000
END:DAYLIGHT
BEGIN:STANDARD
TZOFFSETFROM:-0700
TZOFFSETTO:-0800
TZNAME:PST
DTSTART:20221106T090000
END:STANDARD
BEGIN:DAYLIGHT
TZOFFSETFROM:-0800
TZOFFSETTO:-0700
TZNAME:PDT
DTSTART:20230312T100000
END:DAYLIGHT
BEGIN:STANDARD
TZOFFSETFROM:-0700
TZOFFSETTO:-0800
TZNAME:PST
DTSTART:20231105T090000
END:STANDARD
END:VTIMEZONE
BEGIN:VEVENT
DTSTART;TZID=America/Los_Angeles:20220629T080000
DTEND;TZID=America/Los_Angeles:20220629T120000
DTSTAMP:20260419T230057
CREATED:20220531T183918Z
LAST-MODIFIED:20220531T183918Z
UID:40066-1656489600-1656504000@nvtim.com
SUMMARY:Nevada SHRP2 TIM 4-Hour Training Class – NHP ACADEMY
DESCRIPTION:There will be a SHRP2 4-hr TIM Training Class which will be held in-person for the NHP Academy. ALL current COVID-19 guidelines will be followed. \n  \nTHIS IS A CLOSED CLASS. NO OTHERS WILL BE REGISTERED FOR THIS CLASS. 
URL:https://nvtim.com/event/nevada-shrp2-tim-4-hour-training-class-nhp-academy-2/
END:VEVENT
BEGIN:VEVENT
DTSTART;TZID=America/Los_Angeles:20220630T113000
DTEND;TZID=America/Los_Angeles:20220630T140000
DTSTAMP:20260419T230057
CREATED:20211201T165719Z
LAST-MODIFIED:20211201T165719Z
UID:39005-1656588600-1656597600@nvtim.com
SUMMARY:TIM Coalition Meeting - Southern Nevada
DESCRIPTION:Please join us for the upcoming TIM Coalition meeting for Southern Nevada. This meeting will be held in person and will take place at the following location: \nNevada Highway Patrol – Southern Command / Rm A105 \n4615 W. Sunset Rd \nLas Vegas\, Nevada 89119 \n  \nTo register for this event\, please complete the registration form. \nhttps://nvtim.com/event-registration-form/ [nvtim.com] \n  \nAny questions for this meeting\, please contact:  \nRita Brohman \n(916) 847-9480 \nRita.Brohman@parsons.com
URL:https://nvtim.com/event/tim-coalition-meeting-southern-nevada-9/
END:VEVENT
END:VCALENDAR