BEGIN:VCALENDAR
VERSION:2.0
PRODID:-//NVTIM - Nevada Traffic Incident Management - ECPv6.15.20//NONSGML v1.0//EN
CALSCALE:GREGORIAN
METHOD:PUBLISH
X-WR-CALNAME:NVTIM - Nevada Traffic Incident Management
X-ORIGINAL-URL:https://nvtim.com
X-WR-CALDESC:Events for NVTIM - Nevada Traffic Incident Management
REFRESH-INTERVAL;VALUE=DURATION:PT1H
X-Robots-Tag:noindex
X-PUBLISHED-TTL:PT1H
BEGIN:VTIMEZONE
TZID:America/Los_Angeles
BEGIN:DAYLIGHT
TZOFFSETFROM:-0800
TZOFFSETTO:-0700
TZNAME:PDT
DTSTART:20220313T100000
END:DAYLIGHT
BEGIN:STANDARD
TZOFFSETFROM:-0700
TZOFFSETTO:-0800
TZNAME:PST
DTSTART:20221106T090000
END:STANDARD
BEGIN:DAYLIGHT
TZOFFSETFROM:-0800
TZOFFSETTO:-0700
TZNAME:PDT
DTSTART:20230312T100000
END:DAYLIGHT
BEGIN:STANDARD
TZOFFSETFROM:-0700
TZOFFSETTO:-0800
TZNAME:PST
DTSTART:20231105T090000
END:STANDARD
BEGIN:DAYLIGHT
TZOFFSETFROM:-0800
TZOFFSETTO:-0700
TZNAME:PDT
DTSTART:20240310T100000
END:DAYLIGHT
BEGIN:STANDARD
TZOFFSETFROM:-0700
TZOFFSETTO:-0800
TZNAME:PST
DTSTART:20241103T090000
END:STANDARD
END:VTIMEZONE
BEGIN:VEVENT
DTSTART;TZID=America/Los_Angeles:20230915T080000
DTEND;TZID=America/Los_Angeles:20230915T120000
DTSTAMP:20260423T183032
CREATED:20230829T031228Z
LAST-MODIFIED:20230829T033906Z
UID:41221-1694764800-1694779200@nvtim.com
SUMMARY:Nevada SHRP2 TIM 4-Hour Training Class – Las Vegas
DESCRIPTION:Please join us in Las Vegas for the SHRP2 4-hr TIM Training Class which will be held in-person. Here are the details:  \nNHP Southern Command / Room A105 \n4615 W. Sunset Road\, Las Vegas\, NV 89118 \nTo register for the class or other information\, please contact: \ndavid.strawn@parsons. com \nOffice: (702) 789-2027 \nCell: (702) 885-4944
URL:https://nvtim.com/event/nevada-shrp2-tim-4-hour-training-class-las-vegas-14/
END:VEVENT
BEGIN:VEVENT
DTSTART;TZID=America/Los_Angeles:20230920T080000
DTEND;TZID=America/Los_Angeles:20230920T120000
DTSTAMP:20260423T183032
CREATED:20220805T154414Z
LAST-MODIFIED:20220805T154414Z
UID:40391-1695196800-1695211200@nvtim.com
SUMMARY:Nevada TIM SHRP2 4-HourTraining Class – Reno
DESCRIPTION:Please join us in Reno for the SHRP2 4-hr TIM Training Class which will be held in-person. Here are the details:  \nReno Fire Department / Station #11 \n7105 Mae Anne Ave.\, Reno\, NV 89523 \n  \nTo register for the class or other information\, please contact: \ndavid.strawn@parsons. com \nOffice: (702) 789-2027 \nCell: (702) 885-4944
URL:https://nvtim.com/event/nevada-tim-shrp2-4-hourtraining-class-reno-11/
END:VEVENT
BEGIN:VEVENT
DTSTART;TZID=America/Los_Angeles:20230926T103000
DTEND;TZID=America/Los_Angeles:20230926T130000
DTSTAMP:20260423T183032
CREATED:20220824T172625Z
LAST-MODIFIED:20230803T161025Z
UID:40427-1695724200-1695733200@nvtim.com
SUMMARY:Nevada TIM Coalition Meeting – Winnemucca
DESCRIPTION:Please join us for the upcoming TIM Coalition meeting for Winnemucca\, Nevada. This meeting will be held in person and will take place at the following location: \nWinnemucca Fire Station \n  \nTo register for this event\, please complete the registration form. \nhttps://nvtim.com/event-registration-form/ [nvtim.com] \n  \nAny questions for this meeting\, please contact:  \nKim Peters \nMobile: (714).334.5607 \nkim.peters@parsons.com
URL:https://nvtim.com/event/nevada-tim-coalition-meeting-winnemucca-2/
END:VEVENT
BEGIN:VEVENT
DTSTART;TZID=America/Los_Angeles:20230927T080000
DTEND;TZID=America/Los_Angeles:20230927T120000
DTSTAMP:20260423T183032
CREATED:20230829T034054Z
LAST-MODIFIED:20230829T034054Z
UID:41223-1695801600-1695816000@nvtim.com
SUMMARY:Nevada SHRP2 TIM 4-Hour Training Class – Las Vegas
DESCRIPTION:Please join us in Las Vegas for the SHRP2 4-hr TIM Training Class which will be held in-person. Here are the details:  \nNHP Southern Command / Room A105 \n4615 W. Sunset Road\, Las Vegas\, NV 89118 \nTo register for the class or other information\, please contact: \ndavid.strawn@parsons. com \nOffice: (702) 789-2027 \nCell: (702) 885-4944
URL:https://nvtim.com/event/nevada-shrp2-tim-4-hour-training-class-las-vegas-15/
END:VEVENT
BEGIN:VEVENT
DTSTART;TZID=America/Los_Angeles:20230927T103000
DTEND;TZID=America/Los_Angeles:20230927T130000
DTSTAMP:20260423T183032
CREATED:20230803T162441Z
LAST-MODIFIED:20230803T162441Z
UID:41136-1695810600-1695819600@nvtim.com
SUMMARY:Nevada TIM Coalition Meeting – Elko
DESCRIPTION:Please join us for the upcoming TIM Coalition meeting for Elko\, Nevada. This meeting will be held in person and will take place at the following location: \nNHP office below DMV \n  \nTo register for this event\, please complete the registration form. \nhttps://nvtim.com/event-registration-form/ [nvtim.com] \n  \nKim Peters \nMobile: (714).334.5607 \nkim.peters@parsons.com
URL:https://nvtim.com/event/nevada-tim-coalition-meeting-elko/
END:VEVENT
BEGIN:VEVENT
DTSTART;TZID=America/Los_Angeles:20230928T093000
DTEND;TZID=America/Los_Angeles:20230928T113000
DTSTAMP:20260423T183032
CREATED:20220824T172812Z
LAST-MODIFIED:20230803T160853Z
UID:40429-1695893400-1695900600@nvtim.com
SUMMARY:Nevada TIM Coalition Meeting – Ely
DESCRIPTION:Please join us for the upcoming TIM Coalition meeting for Ely\, Nevada. This meeting will be held in person and will take place at the following location: \n545 Mill Ave \nEly\, NV 89301 \n  \nTo register for this event\, please complete the registration form. \nhttps://nvtim.com/event-registration-form/ [nvtim.com] \n  \nAny questions for this meeting\, please contact:  \nKim Peters \nMobile: (714).334.5607 \nkim.peters@parsons.com
URL:https://nvtim.com/event/nevada-tim-coalition-meeting-ely-2/
END:VEVENT
BEGIN:VEVENT
DTSTART;TZID=America/Los_Angeles:20231004T080000
DTEND;TZID=America/Los_Angeles:20231004T120000
DTSTAMP:20260423T183032
CREATED:20230404T154605Z
LAST-MODIFIED:20230404T154605Z
UID:40938-1696406400-1696420800@nvtim.com
SUMMARY:Nevada TIM SHRP2 4-HourTraining Class – Tonopah
DESCRIPTION:Please join us in Tonopah for the SHRP2 4-hr TIM Training Class which will be held in-person. Here are the details:  \nTonopah Convention Center \n301 Brougher Ave.\, Tonopah\, NV 89049 \nTo register for the class or other information\, please contact: \ndavid.strawn@parsons. com \nOffice: (702) 789-2027 \nCell: (702) 885-4944
URL:https://nvtim.com/event/nevada-tim-shrp2-4-hourtraining-class-tonopah-2/
END:VEVENT
BEGIN:VEVENT
DTSTART;TZID=America/Los_Angeles:20231004T121500
DTEND;TZID=America/Los_Angeles:20231004T140000
DTSTAMP:20260423T183032
CREATED:20230404T154847Z
LAST-MODIFIED:20230803T160638Z
UID:40940-1696421700-1696428000@nvtim.com
SUMMARY:Nevada TIM Coalition Meeting – Tonopah
DESCRIPTION:Please join us for the upcoming TIM Coalition meeting for Tonopah\, Nevada. This meeting will be held in person and will take place at the following location: \nTonopah Convention Center \n301 Brougher Ave. \nTonopah\, NV 89049 \n  \nTo register for this event\, please complete the registration form. \nhttps://nvtim.com/event-registration-form/ [nvtim.com] \n  \nAny questions for this meeting\, please contact:  \nKim Peters \nMobile: (714).334.5607 \nkim.peters@parsons.com
URL:https://nvtim.com/event/nevada-tim-coalition-meeting-tonopah/
END:VEVENT
BEGIN:VEVENT
DTSTART;TZID=America/Los_Angeles:20231115T080000
DTEND;TZID=America/Los_Angeles:20231115T120000
DTSTAMP:20260423T183032
CREATED:20220803T190126Z
LAST-MODIFIED:20220803T190126Z
UID:40374-1700035200-1700049600@nvtim.com
SUMMARY:Nevada SHRP2 TIM 4-Hour Training Class – Las Vegas
DESCRIPTION:Please join us in Las Vegas for the SHRP2 4-hr TIM Training Class which will be held in-person. Here are the details:  \nNHP Southern Command / Room A105 \n4615 W. Sunset Road\, Las Vegas\, NV 89118 \nTo register for the class or other information\, please contact: \ndavid.strawn@parsons. com \nOffice: (702) 789-2027 \nCell: (702) 885-4944
URL:https://nvtim.com/event/nevada-shrp2-tim-4-hour-training-class-las-vegas-13/
END:VEVENT
END:VCALENDAR