BEGIN:VCALENDAR
VERSION:2.0
PRODID:-//NVTIM - Nevada Traffic Incident Management - ECPv6.15.20//NONSGML v1.0//EN
CALSCALE:GREGORIAN
METHOD:PUBLISH
X-WR-CALNAME:NVTIM - Nevada Traffic Incident Management
X-ORIGINAL-URL:https://nvtim.com
X-WR-CALDESC:Events for NVTIM - Nevada Traffic Incident Management
REFRESH-INTERVAL;VALUE=DURATION:PT1H
X-Robots-Tag:noindex
X-PUBLISHED-TTL:PT1H
BEGIN:VTIMEZONE
TZID:America/Los_Angeles
BEGIN:DAYLIGHT
TZOFFSETFROM:-0800
TZOFFSETTO:-0700
TZNAME:PDT
DTSTART:20220313T100000
END:DAYLIGHT
BEGIN:STANDARD
TZOFFSETFROM:-0700
TZOFFSETTO:-0800
TZNAME:PST
DTSTART:20221106T090000
END:STANDARD
BEGIN:DAYLIGHT
TZOFFSETFROM:-0800
TZOFFSETTO:-0700
TZNAME:PDT
DTSTART:20230312T100000
END:DAYLIGHT
BEGIN:STANDARD
TZOFFSETFROM:-0700
TZOFFSETTO:-0800
TZNAME:PST
DTSTART:20231105T090000
END:STANDARD
BEGIN:DAYLIGHT
TZOFFSETFROM:-0800
TZOFFSETTO:-0700
TZNAME:PDT
DTSTART:20240310T100000
END:DAYLIGHT
BEGIN:STANDARD
TZOFFSETFROM:-0700
TZOFFSETTO:-0800
TZNAME:PST
DTSTART:20241103T090000
END:STANDARD
BEGIN:DAYLIGHT
TZOFFSETFROM:-0800
TZOFFSETTO:-0700
TZNAME:PDT
DTSTART:20250309T100000
END:DAYLIGHT
BEGIN:STANDARD
TZOFFSETFROM:-0700
TZOFFSETTO:-0800
TZNAME:PST
DTSTART:20251102T090000
END:STANDARD
END:VTIMEZONE
BEGIN:VEVENT
DTSTART;TZID=America/Los_Angeles:20231207T113000
DTEND;TZID=America/Los_Angeles:20231207T140000
DTSTAMP:20260420T042315
CREATED:20220803T184451Z
LAST-MODIFIED:20231204T163845Z
UID:40362-1701948600-1701957600@nvtim.com
SUMMARY:Nevada TIM Coalition Meeting – Las Vegas
DESCRIPTION:THE TIM COALITION MEETING FOR LAS VEGAS HAS BEEN CANCELLED. IF NEEDED\, PLEASE CONATCT KIM PETERS FOR FURTHER INOFRMATION. THANK YOU. \nKim Peters \nMobile: (714).334.5607 \nkim.peters@parsons.com \n  \n 
URL:https://nvtim.com/event/nevada-tim-coalition-meeting-las-vegas-5/
END:VEVENT
BEGIN:VEVENT
DTSTART;TZID=America/Los_Angeles:20240111T083000
DTEND;TZID=America/Los_Angeles:20240111T100000
DTSTAMP:20260420T042315
CREATED:20231205T212654Z
LAST-MODIFIED:20231205T212654Z
UID:41925-1704961800-1704967200@nvtim.com
SUMMARY:Nevada TRIP After-Action Review Meeting – Las Vegas
DESCRIPTION:Please join us for the upcoming TRIP After-Action Review meeting for the Southern Nevada Area (Clark County). This meeting is focused on the Tow Companies\, NV State police\, NSP Dispatch\, Vegas Roads\, and others as invited. This meeting will be held in person and will take place at the following location: \nNHP Southern Command / Room A105 \n4615 W. Sunset Road\, Las Vegas\, NV 89118 \n  \nFor further information on this meeting\, please contact the following: \nDavid Strawn (Parsons) \ndavid.strawn@parsons.com \nOffice: (702) 789-2027 \nCell: (702) 885-4944
URL:https://nvtim.com/event/nevada-trip-after-action-review-meeting-las-vegas/
END:VEVENT
BEGIN:VEVENT
DTSTART;TZID=America/Los_Angeles:20240208T083000
DTEND;TZID=America/Los_Angeles:20240208T100000
DTSTAMP:20260420T042315
CREATED:20231205T212749Z
LAST-MODIFIED:20231205T212749Z
UID:41927-1707381000-1707386400@nvtim.com
SUMMARY:Nevada TRIP After-Action Review Meeting – Las Vegas
DESCRIPTION:Please join us for the upcoming TRIP After-Action Review meeting for the Southern Nevada Area (Clark County). This meeting is focused on the Tow Companies\, NV State police\, NSP Dispatch\, Vegas Roads\, and others as invited. This meeting will be held in person and will take place at the following location: \nNHP Southern Command / Room A105 \n4615 W. Sunset Road\, Las Vegas\, NV 89118 \n  \nFor further information on this meeting\, please contact the following: \nDavid Strawn (Parsons) \ndavid.strawn@parsons.com \nOffice: (702) 789-2027 \nCell: (702) 885-4944
URL:https://nvtim.com/event/nevada-trip-after-action-review-meeting-las-vegas-2/
END:VEVENT
BEGIN:VEVENT
DTSTART;TZID=America/Los_Angeles:20240220T113000
DTEND;TZID=America/Los_Angeles:20240220T140000
DTSTAMP:20260420T042315
CREATED:20231205T194825Z
LAST-MODIFIED:20231205T194825Z
UID:41839-1708428600-1708437600@nvtim.com
SUMMARY:Nevada TIM Coalition Meeting – Reno
DESCRIPTION:Please join us for the upcoming TIM Coalition meeting for Northern Nevada. This meeting will be held in person and will take place at the following location: \nAGC Building \n5400 Mill St. \nReno\, Nevada 89502 \n  \nTo register for this event\, please complete the registration form. \nhttps://nvtim.com/event-registration-form/ [nvtim.com] \n  \nAny questions for this meeting\, please contact:  \nKim Peters \nMobile: (714) 334.5607 \nkim.peters@parsons.com
URL:https://nvtim.com/event/nevada-tim-coalition-meeting-reno-6/
END:VEVENT
BEGIN:VEVENT
DTSTART;TZID=America/Los_Angeles:20240221T103000
DTEND;TZID=America/Los_Angeles:20240221T130000
DTSTAMP:20260420T042315
CREATED:20231205T195358Z
LAST-MODIFIED:20231205T195358Z
UID:41842-1708511400-1708520400@nvtim.com
SUMMARY:Nevada TIM Coalition Meeting – Carson City
DESCRIPTION:Please join us for the upcoming TIM Coalition meeting for Carson City\, Nevada. This meeting will be held in person and will take place at the following location: \nLocation: The meeting location will be announced in the meeting invite that you will receive from Parsons. \n  \nTo register for this event\, please complete the registration form. \nhttps://nvtim.com/event-registration-form/ [nvtim.com] \n  \n  \nAny questions for this meeting\, please contact:  \nKim Peters \nMobile: (714).334.5607 \nkim.peters@parsons.com
URL:https://nvtim.com/event/nevada-tim-coalition-meeting-carson-city-3/
END:VEVENT
BEGIN:VEVENT
DTSTART;TZID=America/Los_Angeles:20240222T113000
DTEND;TZID=America/Los_Angeles:20240222T140000
DTSTAMP:20260420T042315
CREATED:20231205T195639Z
LAST-MODIFIED:20231205T195639Z
UID:41844-1708601400-1708610400@nvtim.com
SUMMARY:Nevada TIM Coalition Meeting – Las Vegas
DESCRIPTION:Please join us for the upcoming TIM Coalition meeting for Southern Nevada. This meeting will be held in person and will take place at the following location: \nNevada Highway Patrol – Southern Command / Rm A105 \n4615 W. Sunset Rd \nLas Vegas\, Nevada 89118 \n  \nTo register for this event\, please complete the registration form. \nhttps://nvtim.com/event-registration-form/ [nvtim.com] \n  \nAny questions for this meeting\, please contact:  \nKim Peters \nMobile: (714) 334.5607 \nkim.peters@parsons.com
URL:https://nvtim.com/event/nevada-tim-coalition-meeting-las-vegas-6/
END:VEVENT
BEGIN:VEVENT
DTSTART;TZID=America/Los_Angeles:20240313T080000
DTEND;TZID=America/Los_Angeles:20240313T120000
DTSTAMP:20260420T042315
CREATED:20231205T205102Z
LAST-MODIFIED:20240305T210226Z
UID:41899-1710316800-1710331200@nvtim.com
SUMMARY:Nevada TIM SHRP2 4-Hour Training Class – Carson City / CANCELLED
DESCRIPTION:THE SCHEDULE SHRP2 TIM TRAINING CLASS HAS BEEN CANCELLED. THIS CLASS WILL BE RESCHEDULED SOON.  \nFor any questions\, please contact:  \nDavid Strawn (Parsons) \ndavid.strawn@parsons. com \nOffice: (702) 789-2027 \nCell: (702) 885-4944
URL:https://nvtim.com/event/nevada-tim-shrp2-4-hour-training-class-carson-city/
END:VEVENT
END:VCALENDAR