BEGIN:VCALENDAR
VERSION:2.0
PRODID:-//NVTIM - Nevada Traffic Incident Management - ECPv6.15.20//NONSGML v1.0//EN
CALSCALE:GREGORIAN
METHOD:PUBLISH
X-WR-CALNAME:NVTIM - Nevada Traffic Incident Management
X-ORIGINAL-URL:https://nvtim.com
X-WR-CALDESC:Events for NVTIM - Nevada Traffic Incident Management
REFRESH-INTERVAL;VALUE=DURATION:PT1H
X-Robots-Tag:noindex
X-PUBLISHED-TTL:PT1H
BEGIN:VTIMEZONE
TZID:America/Los_Angeles
BEGIN:DAYLIGHT
TZOFFSETFROM:-0800
TZOFFSETTO:-0700
TZNAME:PDT
DTSTART:20230312T100000
END:DAYLIGHT
BEGIN:STANDARD
TZOFFSETFROM:-0700
TZOFFSETTO:-0800
TZNAME:PST
DTSTART:20231105T090000
END:STANDARD
BEGIN:DAYLIGHT
TZOFFSETFROM:-0800
TZOFFSETTO:-0700
TZNAME:PDT
DTSTART:20240310T100000
END:DAYLIGHT
BEGIN:STANDARD
TZOFFSETFROM:-0700
TZOFFSETTO:-0800
TZNAME:PST
DTSTART:20241103T090000
END:STANDARD
BEGIN:DAYLIGHT
TZOFFSETFROM:-0800
TZOFFSETTO:-0700
TZNAME:PDT
DTSTART:20250309T100000
END:DAYLIGHT
BEGIN:STANDARD
TZOFFSETFROM:-0700
TZOFFSETTO:-0800
TZNAME:PST
DTSTART:20251102T090000
END:STANDARD
END:VTIMEZONE
BEGIN:VEVENT
DTSTART;TZID=America/Los_Angeles:20240716T080000
DTEND;TZID=America/Los_Angeles:20240717T170000
DTSTAMP:20260425T212104
CREATED:20240404T155118Z
LAST-MODIFIED:20240404T155144Z
UID:42415-1721116800-1721235600@nvtim.com
SUMMARY:2024 Rural Traffic Safety Summit
DESCRIPTION:We are pleased to announce the 2024 Rural Traffic Safety Summit that will take place in Elko\, NV on July 16-17\, 2024. For more information\, please go to this link: \n2024 Rural Traffic Safety Summit \nYou may also contact the following: \nPat Gallagher (Parsons)\nE: pat.gallgher@parsons.com\nP: (775) 720-8522 \nKim Peters (Parsons)\nE: kim.peters@parsons.com\nP: (714) 334-5607 \nDavid Strawn (Parsons)\nE: david.strawn@parsons.com\nP: (702) 885-4944
URL:https://nvtim.com/event/2024-rural-traffic-safety-summit/
END:VEVENT
BEGIN:VEVENT
DTSTART;TZID=America/Los_Angeles:20240724T080000
DTEND;TZID=America/Los_Angeles:20240724T120000
DTSTAMP:20260425T212104
CREATED:20231205T210921Z
LAST-MODIFIED:20240722T205735Z
UID:41911-1721808000-1721822400@nvtim.com
SUMMARY:Nevada TIM SHRP2 4-HourTraining Class – Ely CANCELLED
DESCRIPTION:THIS CLASS HAS BEEN CANCELLED AND WILL BE RESCHEDULED.  \n  \nFOR ADDITIONAL INFORMATION\, PLEASE OCNTACT: : \n  \nDavid Strawn (Parsons)                                           Lt. Jeffrey Howell (NSP) \ndavid.strawn@parsons.com                                   jhowell@dps.state.nv.us \nOffice: (702) 789-2027                                              Office: (775) 753-1121 \nCell: (702) 885-4944                                                 Cell: (775) 340-4522
URL:https://nvtim.com/event/nevada-tim-shrp2-4-hourtraining-class-ely-2/
END:VEVENT
BEGIN:VEVENT
DTSTART;TZID=America/Los_Angeles:20240808T093000
DTEND;TZID=America/Los_Angeles:20240808T110000
DTSTAMP:20260425T212104
CREATED:20231205T213410Z
LAST-MODIFIED:20240325T183036Z
UID:41939-1723109400-1723114800@nvtim.com
SUMMARY:Nevada TRIP After-Action Review Meeting – Las Vegas
DESCRIPTION:Please join us for the upcoming TRIP After-Action Review meeting for the Southern Nevada Area (Clark County). This meeting is focused on the Tow Companies\, NV State police\, NSP Dispatch\, Vegas Roads\, and others as invited. This meeting will be held in person and will take place at the following location: \nNHP Southern Command / Room A105 \n4615 W. Sunset Road\, Las Vegas\, NV 89118 \n  \nFor further information on this meeting\, please contact the following: \nDavid Strawn (Parsons) \ndavid.strawn@parsons.com \nOffice: (702) 789-2027 \nCell: (702) 885-4944
URL:https://nvtim.com/event/nevada-trip-after-action-review-meeting-las-vegas-8/
END:VEVENT
BEGIN:VEVENT
DTSTART;TZID=America/Los_Angeles:20240808T120000
DTEND;TZID=America/Los_Angeles:20240808T170000
DTSTAMP:20260425T212104
CREATED:20240523T185316Z
LAST-MODIFIED:20240523T185316Z
UID:42964-1723118400-1723136400@nvtim.com
SUMMARY:SHRP2 TIM Training - NLVFD Academy - CLOSED
DESCRIPTION:There will be a SHRP2 TIM Training class for the NLVFD Academy. This class is CLOSED.
URL:https://nvtim.com/event/shrp2-tim-training-nlvfd-academy-closed/
END:VEVENT
END:VCALENDAR