BEGIN:VCALENDAR
VERSION:2.0
PRODID:-//NVTIM - Nevada Traffic Incident Management - ECPv6.15.20//NONSGML v1.0//EN
CALSCALE:GREGORIAN
METHOD:PUBLISH
X-WR-CALNAME:NVTIM - Nevada Traffic Incident Management
X-ORIGINAL-URL:https://nvtim.com
X-WR-CALDESC:Events for NVTIM - Nevada Traffic Incident Management
REFRESH-INTERVAL;VALUE=DURATION:PT1H
X-Robots-Tag:noindex
X-PUBLISHED-TTL:PT1H
BEGIN:VTIMEZONE
TZID:America/Los_Angeles
BEGIN:DAYLIGHT
TZOFFSETFROM:-0800
TZOFFSETTO:-0700
TZNAME:PDT
DTSTART:20230312T100000
END:DAYLIGHT
BEGIN:STANDARD
TZOFFSETFROM:-0700
TZOFFSETTO:-0800
TZNAME:PST
DTSTART:20231105T090000
END:STANDARD
BEGIN:DAYLIGHT
TZOFFSETFROM:-0800
TZOFFSETTO:-0700
TZNAME:PDT
DTSTART:20240310T100000
END:DAYLIGHT
BEGIN:STANDARD
TZOFFSETFROM:-0700
TZOFFSETTO:-0800
TZNAME:PST
DTSTART:20241103T090000
END:STANDARD
BEGIN:DAYLIGHT
TZOFFSETFROM:-0800
TZOFFSETTO:-0700
TZNAME:PDT
DTSTART:20250309T100000
END:DAYLIGHT
BEGIN:STANDARD
TZOFFSETFROM:-0700
TZOFFSETTO:-0800
TZNAME:PST
DTSTART:20251102T090000
END:STANDARD
END:VTIMEZONE
BEGIN:VEVENT
DTSTART;TZID=America/Los_Angeles:20240829T000000
DTEND;TZID=America/Los_Angeles:20240829T000000
DTSTAMP:20260420T015152
CREATED:20231205T211335Z
LAST-MODIFIED:20240816T145518Z
UID:41917-1724889600-1724889600@nvtim.com
SUMMARY:Nevada TIM SHRP2 4-Hour Training Class – Carson City - RESCHEDULED TBD
DESCRIPTION:THIS CLASS HAS BEEN CANCELED AND WILL BE RESCHEDULED.  \n  \nFor additional information\, please contact: \n  \nDavid Strawn (Parsons) \ndavid.strawn@parsons.com \nOffice: (702) 789-2027 \nCell: (702) 885-4944
URL:https://nvtim.com/event/nevada-tim-shrp2-4-hour-training-class-carson-city-2/
LOCATION:NV
END:VEVENT
BEGIN:VEVENT
DTSTART;TZID=America/Los_Angeles:20240829T113000
DTEND;TZID=America/Los_Angeles:20240829T140000
DTSTAMP:20260420T015152
CREATED:20231205T202114Z
LAST-MODIFIED:20231205T202114Z
UID:41878-1724931000-1724940000@nvtim.com
SUMMARY:Nevada TIM Coalition Meeting – Las Vegas
DESCRIPTION:Please join us for the upcoming TIM Coalition meeting for Southern Nevada. This meeting will be held in person and will take place at the following location: \nNevada Highway Patrol – Southern Command / Rm A105 \n4615 W. Sunset Rd \nLas Vegas\, Nevada 89118 \n  \nTo register for this event\, please complete the registration form. \nhttps://nvtim.com/event-registration-form/ [nvtim.com] \n  \nAny questions for this meeting\, please contact:  \nKim Peters \nMobile: (714) 334.5607 \nkim.peters@parsons.com
URL:https://nvtim.com/event/nevada-tim-coalition-meeting-las-vegas-9/
LOCATION:NV
END:VEVENT
BEGIN:VEVENT
DTSTART;TZID=America/Los_Angeles:20240904T080000
DTEND;TZID=America/Los_Angeles:20240904T150000
DTSTAMP:20260420T015152
CREATED:20240722T210908Z
LAST-MODIFIED:20240724T171434Z
UID:43007-1725436800-1725462000@nvtim.com
SUMMARY:SHRP2 TIM Train the Trainer Class
DESCRIPTION:We are pleased to announce that there will be a SHRP2 TIM Train the Trainer Class held in Las Vegas. This class is to have all those that are interested in the SHRP2 TIM Training to become a federally certified TIM instructor. After attending this class and becoming certified\, you would be able to instruct other First Responders and to help them to stay alive as they respond to crashes throughout Nevada. Below are the details: \n  \nContact the following to register for the class: \nDavid Strawn (Parsons) \nPh: (702) 885-4944 \nEmails: david.strawn@parsons.com \nTo attend this class\, you must register prior to attending. \n  \nWe look forward to seeing you at this class.
URL:https://nvtim.com/event/shrp2-time-train-the-trainer-class/
LOCATION:NV
END:VEVENT
BEGIN:VEVENT
DTSTART;TZID=America/Los_Angeles:20240912T093000
DTEND;TZID=America/Los_Angeles:20240912T110000
DTSTAMP:20260420T015152
CREATED:20240325T183252Z
LAST-MODIFIED:20240325T183252Z
UID:42362-1726133400-1726138800@nvtim.com
SUMMARY:TRIP After-Action Review Meeting
DESCRIPTION:Please join us for the upcoming TRIP After-Action Review meeting for the Southern Nevada Area (Clark County). This meeting is focused on the Tow Companies\, NV State police\, NSP Dispatch\, Vegas Roads\, and others as invited. This meeting will be held in person and will take place at the following location: \nNHP Southern Command / Room A116 \n4615 W. Sunset Road\, Las Vegas\, NV 89118 \n  \nFor further information on this meeting\, please contact the following: \nDavid Strawn (Parsons) \ndavid.strawn@parsons.com \nOffice: (702) 789-2027 \nCell: (702) 885-4944
URL:https://nvtim.com/event/trip-after-action-review-meeting/
LOCATION:NV
END:VEVENT
BEGIN:VEVENT
DTSTART;TZID=America/Los_Angeles:20240918T000000
DTEND;TZID=America/Los_Angeles:20240918T000000
DTSTAMP:20260420T015152
CREATED:20231205T211500Z
LAST-MODIFIED:20240916T135353Z
UID:41919-1726617600-1726617600@nvtim.com
SUMMARY:Nevada TIM SHRP2 4-HourTraining Class – Winnemucca - CANCELLED
DESCRIPTION:THIS CLASS WILL BER RESCHEDULED \n  \nQUESTIONS\, PLEASE COPNTACT: \nDavid Strawn (Parsons)                                            \ndavid.strawn@parsons.com \nOffice: (702) 789-2027 \nCell: (702) 885-4944
URL:https://nvtim.com/event/nevada-tim-shrp2-4-hourtraining-class-winnemucca/
LOCATION:NV
END:VEVENT
BEGIN:VEVENT
DTSTART;TZID=America/Los_Angeles:20240923T103000
DTEND;TZID=America/Los_Angeles:20240923T130000
DTSTAMP:20260420T015152
CREATED:20231205T201203Z
LAST-MODIFIED:20240404T155357Z
UID:41866-1727087400-1727096400@nvtim.com
SUMMARY:Nevada TIM Coalition Meeting – Tonopah
DESCRIPTION:Please join us for the upcoming TIM Coalition meeting for Tonopah\, Nevada. This meeting will be held in person and will take place at the following location: \nTonopah Convention Center \n301 Brougher Ave. \nTonopah\, NV 89049 \n  \nTo register for this event\, please complete the registration form. \nhttps://nvtim.com/event-registration-form/ [nvtim.com] \n  \nAny questions for this meeting\, please contact:  \nKim Peters \nMobile: (714) 334.5607 \nkim.peters@parsons.com
URL:https://nvtim.com/event/nevada-tim-coalition-meeting-tonopah-4/
LOCATION:NV
END:VEVENT
END:VCALENDAR