BEGIN:VCALENDAR
VERSION:2.0
PRODID:-//NVTIM - Nevada Traffic Incident Management - ECPv6.15.20//NONSGML v1.0//EN
CALSCALE:GREGORIAN
METHOD:PUBLISH
X-WR-CALNAME:NVTIM - Nevada Traffic Incident Management
X-ORIGINAL-URL:https://nvtim.com
X-WR-CALDESC:Events for NVTIM - Nevada Traffic Incident Management
REFRESH-INTERVAL;VALUE=DURATION:PT1H
X-Robots-Tag:noindex
X-PUBLISHED-TTL:PT1H
BEGIN:VTIMEZONE
TZID:America/Los_Angeles
BEGIN:DAYLIGHT
TZOFFSETFROM:-0800
TZOFFSETTO:-0700
TZNAME:PDT
DTSTART:20230312T100000
END:DAYLIGHT
BEGIN:STANDARD
TZOFFSETFROM:-0700
TZOFFSETTO:-0800
TZNAME:PST
DTSTART:20231105T090000
END:STANDARD
BEGIN:DAYLIGHT
TZOFFSETFROM:-0800
TZOFFSETTO:-0700
TZNAME:PDT
DTSTART:20240310T100000
END:DAYLIGHT
BEGIN:STANDARD
TZOFFSETFROM:-0700
TZOFFSETTO:-0800
TZNAME:PST
DTSTART:20241103T090000
END:STANDARD
BEGIN:DAYLIGHT
TZOFFSETFROM:-0800
TZOFFSETTO:-0700
TZNAME:PDT
DTSTART:20250309T100000
END:DAYLIGHT
BEGIN:STANDARD
TZOFFSETFROM:-0700
TZOFFSETTO:-0800
TZNAME:PST
DTSTART:20251102T090000
END:STANDARD
END:VTIMEZONE
BEGIN:VEVENT
DTSTART;TZID=America/Los_Angeles:20241120T080000
DTEND;TZID=America/Los_Angeles:20241120T120000
DTSTAMP:20260425T135709
CREATED:20231205T211802Z
LAST-MODIFIED:20241017T175442Z
UID:41923-1732089600-1732104000@nvtim.com
SUMMARY:Nevada SHRP2 TIM 4-Hour Training Class – Las Vegas
DESCRIPTION:Please join us in Las Vegas for the SHRP2 4-hr TIM Training Class which will be held in-person. Here are the details:  \nNHP Southern Command / War Room \n4615 W. Sunset Road\, Las Vegas\, NV 89118 \n  \nTo register for the class or other information\, please contact: \n  \nDavid Strawn (Parsons) \ndavid.strawn@parsons.com \nOffice: (702) 789-2027 \nCell: (702) 885-4944
URL:https://nvtim.com/event/nevada-shrp2-tim-4-hour-training-class-las-vegas-18/
LOCATION:NV
END:VEVENT
END:VCALENDAR