BEGIN:VCALENDAR
VERSION:2.0
PRODID:-//NVTIM - Nevada Traffic Incident Management - ECPv6.15.20//NONSGML v1.0//EN
CALSCALE:GREGORIAN
METHOD:PUBLISH
X-WR-CALNAME:NVTIM - Nevada Traffic Incident Management
X-ORIGINAL-URL:https://nvtim.com
X-WR-CALDESC:Events for NVTIM - Nevada Traffic Incident Management
REFRESH-INTERVAL;VALUE=DURATION:PT1H
X-Robots-Tag:noindex
X-PUBLISHED-TTL:PT1H
BEGIN:VTIMEZONE
TZID:UTC
BEGIN:STANDARD
TZOFFSETFROM:+0000
TZOFFSETTO:+0000
TZNAME:UTC
DTSTART:20170101T000000
END:STANDARD
END:VTIMEZONE
BEGIN:VEVENT
DTSTART;TZID=UTC:20180411T130000
DTEND;TZID=UTC:20180411T170000
DTSTAMP:20260419T180316
CREATED:20180306T042345Z
LAST-MODIFIED:20180306T042356Z
UID:36419-1523451600-1523466000@nvtim.com
SUMMARY:Nevada 4 Hour TIM Training - Northern Nevada - Afternoon
DESCRIPTION:The Nevada TIM Training is built on the National TIM Responder Training Program\, developed by responders for responders.  It was designed to establish the foundation for and promote consistent training of all responders to achieve the three objectives of the TIM National Unified Goal (NUG): \n\nResponder Safety\nSafe\, Quick Clearance\nPrompt\, Reliable\, Interoperable Communications\n\nThe 4-Hour TIM course is intended to provide participating first responders the knowledge and materials necessary for clearing critical incidents as quickly as possible and reducing secondary crashes. Scene safety\, communication\, and relationship building will be emphasized in a multi-agency training approach with highly qualified instructors from multiple law enforcement agencies\, fire agencies\, NDOT\, towing\, and private sector emergency responders. The course structure will consist of 4 hours of training with credit for engineering and Post Law. \n\nPlease click here to register for this training.
URL:https://nvtim.com/event/nevada-4-hour-tim-training-northernn-nevada-afternoon/
LOCATION:NHP Northern Command\, 357 Hammill Lane\, Reno\, NV\, 89511\, United States
ORGANIZER;CN="Nevada TIM Coalitions":MAILTO:rita.brohman@parsons.com
GEO:39.4729624;-119.7913219
X-APPLE-STRUCTURED-LOCATION;VALUE=URI;X-ADDRESS=NHP Northern Command 357 Hammill Lane Reno NV 89511 United States;X-APPLE-RADIUS=500;X-TITLE=357 Hammill Lane:geo:-119.7913219,39.4729624
END:VEVENT
BEGIN:VEVENT
DTSTART;TZID=UTC:20180424T113000
DTEND;TZID=UTC:20180424T133000
DTSTAMP:20260419T180316
CREATED:20180118T034700Z
LAST-MODIFIED:20180413T034725Z
UID:36267-1524569400-1524576600@nvtim.com
SUMMARY:Northern Nevada TIM Coalition Meeting and Luncheon.
DESCRIPTION:Join us for the bimonthly TIM luncheon and meeting. Lunch will be provided.\n\nPlease click here to register.
URL:https://nvtim.com/event/northern-nevada-tim-coalition-meeting-and-luncheon-2/
LOCATION:AGC BUILDING AND TRAINING CENTER\, 5400 Mill St.\, Reno\, NV\, 89502\, United States
ORGANIZER;CN="Nevada TIM Coalitions":MAILTO:rita.brohman@parsons.com
GEO:39.5125529;-119.748754
X-APPLE-STRUCTURED-LOCATION;VALUE=URI;X-ADDRESS=AGC BUILDING AND TRAINING CENTER 5400 Mill St. Reno NV 89502 United States;X-APPLE-RADIUS=500;X-TITLE=5400 Mill St.:geo:-119.748754,39.5125529
END:VEVENT
BEGIN:VEVENT
DTSTART;TZID=UTC:20180425T113000
DTEND;TZID=UTC:20180425T133000
DTSTAMP:20260419T180316
CREATED:20180118T035015Z
LAST-MODIFIED:20180413T034931Z
UID:36269-1524655800-1524663000@nvtim.com
SUMMARY:Tonopah TIM Coalition Meeting and Luncheon
DESCRIPTION:Join us for the next Tonopah TIM Coalition Meeting and Luncheon. Lunch will be provided. \nPlease click here to register.
URL:https://nvtim.com/event/tonopah-tim-coalition-meeting-and-luncheon/
ORGANIZER;CN="Nevada TIM Coalitions":MAILTO:rita.brohman@parsons.com
END:VEVENT
BEGIN:VEVENT
DTSTART;TZID=UTC:20180426T113000
DTEND;TZID=UTC:20180426T133000
DTSTAMP:20260419T180316
CREATED:20180118T035241Z
LAST-MODIFIED:20180413T035135Z
UID:36273-1524742200-1524749400@nvtim.com
SUMMARY:Southern Nevada TIM Coalition Meeting and Luncheon
DESCRIPTION:Join us for the bimonthly TIM luncheon meeting. Lunch will be provided. \nPlease click here to register.
URL:https://nvtim.com/event/southern-nevada-tim-coalition-meeting-and-luncheon-2/
LOCATION:Microsoft Teams
ORGANIZER;CN="Nevada TIM Coalitions":MAILTO:rita.brohman@parsons.com
GEO:36.0709091;-115.2048635
END:VEVENT
BEGIN:VEVENT
DTSTART;TZID=UTC:20180509T080000
DTEND;TZID=UTC:20180509T120000
DTSTAMP:20260419T180316
CREATED:20180306T044602Z
LAST-MODIFIED:20180306T044714Z
UID:36427-1525852800-1525867200@nvtim.com
SUMMARY:Nevada 4 Hour Tim Training - Southern Nevada - Morning
DESCRIPTION:The Nevada TIM Training is built on the National TIM Responder Training Program\, developed by responders for responders.  It was designed to establish the foundation for and promote consistent training of all responders to achieve the three objectives of the TIM National Unified Goal (NUG): \n\nResponder Safety\nSafe\, Quick Clearance\nPrompt\, Reliable\, Interoperable Communications\n\nThe 4-Hour TIM course is intended to provide participating first responders the knowledge and materials necessary for clearing critical incidents as quickly as possible and reducing secondary crashes. Scene safety\, communication\, and relationship building will be emphasized in a multi-agency training approach with highly qualified instructors from multiple law enforcement agencies\, fire agencies\, NDOT\, towing\, and private sector emergency responders. The course structure will consist of 4 hours of training with credit for engineering and Post Law. \n\nPlease click here to register for the training.
URL:https://nvtim.com/event/nevada-4-hour-tim-training-southern-nevada-morning/
LOCATION:RTC Sunset Maintenance Facility\, 5165 West Sunset Road\, Las Vegas\, NV\, 89118\, United States
ORGANIZER;CN="Nevada TIM Coalitions":MAILTO:rita.brohman@parsons.com
END:VEVENT
BEGIN:VEVENT
DTSTART;TZID=UTC:20180509T130000
DTEND;TZID=UTC:20180509T170000
DTSTAMP:20260419T180316
CREATED:20180306T044944Z
LAST-MODIFIED:20180306T045113Z
UID:36429-1525870800-1525885200@nvtim.com
SUMMARY:Nevada 4 Hour TIM Training - Southern Nevada - Afternoon
DESCRIPTION:The Nevada TIM Training is built on the National TIM Responder Training Program\, developed by responders for responders.  It was designed to establish the foundation for and promote consistent training of all responders to achieve the three objectives of the TIM National Unified Goal (NUG): \n\nResponder Safety\nSafe\, Quick Clearance\nPrompt\, Reliable\, Interoperable Communications\n\nThe 4-Hour TIM course is intended to provide participating first responders the knowledge and materials necessary for clearing critical incidents as quickly as possible and reducing secondary crashes. Scene safety\, communication\, and relationship building will be emphasized in a multi-agency training approach with highly qualified instructors from multiple law enforcement agencies\, fire agencies\, NDOT\, towing\, and private sector emergency responders. The course structure will consist of 4 hours of training with credit for engineering and Post Law. \nPlease click here to register for this training.
URL:https://nvtim.com/event/nevada-4-hour-tim-training-southern-nevada-afternoon-2/
LOCATION:RTC Sunset Maintenance Facility\, 5165 West Sunset Road\, Las Vegas\, NV\, 89118\, United States
ORGANIZER;CN="Nevada TIM Coalitions":MAILTO:rita.brohman@parsons.com
END:VEVENT
END:VCALENDAR