BEGIN:VCALENDAR
VERSION:2.0
PRODID:-//NVTIM - Nevada Traffic Incident Management - ECPv6.15.20//NONSGML v1.0//EN
CALSCALE:GREGORIAN
METHOD:PUBLISH
X-ORIGINAL-URL:https://nvtim.com
X-WR-CALDESC:Events for NVTIM - Nevada Traffic Incident Management
REFRESH-INTERVAL;VALUE=DURATION:PT1H
X-Robots-Tag:noindex
X-PUBLISHED-TTL:PT1H
BEGIN:VTIMEZONE
TZID:UTC
BEGIN:STANDARD
TZOFFSETFROM:+0000
TZOFFSETTO:+0000
TZNAME:UTC
DTSTART:20170101T000000
END:STANDARD
END:VTIMEZONE
BEGIN:VEVENT
DTSTART;VALUE=DATE:20180118
DTEND;VALUE=DATE:20180119
DTSTAMP:20260423T213032
CREATED:20180118T042715Z
LAST-MODIFIED:20180118T083454Z
UID:36255-1516233600-1516319999@nvtim.com
SUMMARY:TIM Leadership Annual Planning Meeting in Southern Nevada
DESCRIPTION:Planning meeting for TIM leadership in Southern Nevada.
URL:https://nvtim.com/event/tim-leadership-annual-planning-meeting-in-southern-nevada/
LOCATION:Microsoft Teams
ORGANIZER;CN="Nevada TIM Coalitions":MAILTO:rita.brohman@parsons.com
GEO:36.0709091;-115.2048635
END:VEVENT
END:VCALENDAR