BEGIN:VCALENDAR
VERSION:2.0
PRODID:-//NVTIM - Nevada Traffic Incident Management - ECPv6.15.20//NONSGML v1.0//EN
CALSCALE:GREGORIAN
METHOD:PUBLISH
X-WR-CALNAME:NVTIM - Nevada Traffic Incident Management
X-ORIGINAL-URL:https://nvtim.com
X-WR-CALDESC:Events for NVTIM - Nevada Traffic Incident Management
REFRESH-INTERVAL;VALUE=DURATION:PT1H
X-Robots-Tag:noindex
X-PUBLISHED-TTL:PT1H
BEGIN:VTIMEZONE
TZID:UTC
BEGIN:STANDARD
TZOFFSETFROM:+0000
TZOFFSETTO:+0000
TZNAME:UTC
DTSTART:20160101T000000
END:STANDARD
END:VTIMEZONE
BEGIN:VEVENT
DTSTART;TZID=UTC:20170926T103000
DTEND;TZID=UTC:20170926T123000
DTSTAMP:20260423T163851
CREATED:20170803T010159Z
LAST-MODIFIED:20170907T013404Z
UID:30017-1506421800-1506429000@nvtim.com
SUMMARY:Winnemucca TIM Coalition Meeting
DESCRIPTION:The next Winnemucca TIM Coalition meeting and luncheon is September 26. \nThe focus of this meeting includes developing area-specific TIM Plans. Lunch will be provided. \nThe steering committee meeting will follow immediately after at 12:30-1:30. \nClick here to register for this event. \nPlease contact Pat Gallagher at pat.gallagher@parsons.com or rita.brohman@parsons.com if you have any questions.
URL:https://nvtim.com/event/winnemucca-tim-coalition-meeting/
LOCATION:Winnemucca Fire Department\, 1078 E. Winnemucca Blvd\, Winnemucca\, 89445\, United States
ORGANIZER;CN="Nevada TIM Coalitions":MAILTO:rita.brohman@parsons.com
GEO:40.9746784;-117.7223209
X-APPLE-STRUCTURED-LOCATION;VALUE=URI;X-ADDRESS=Winnemucca Fire Department 1078 E. Winnemucca Blvd Winnemucca 89445 United States;X-APPLE-RADIUS=500;X-TITLE=1078 E. Winnemucca Blvd:geo:-117.7223209,40.9746784
END:VEVENT
BEGIN:VEVENT
DTSTART;TZID=UTC:20170927T090000
DTEND;TZID=UTC:20170927T110000
DTSTAMP:20260423T163851
CREATED:20170803T010512Z
LAST-MODIFIED:20170907T013240Z
UID:30020-1506502800-1506510000@nvtim.com
SUMMARY:Elko TIM Coalition Meeting
DESCRIPTION:The next Elko TIM Coalition meeting and luncheon is September 26. \nThe focus of this meeting includes developing area-specific TIM Plans. Lunch will be provided. \nThe steering committee meeting will follow immediately after at 11:00 – 12:00. \nClick here to register for this event. \nPlease contact Pat Gallagher at pat.gallagher@parsons.com or rita.brohman@parsons.com if you have any questions.
URL:https://nvtim.com/event/elko-tim-coalition-meeting/
LOCATION:NV Highway Patrol Training Room\, 3920 E. Idaho Street\, Elko\, NV\, 89801\, United States
ORGANIZER;CN="Nevada TIM Coalitions":MAILTO:rita.brohman@parsons.com
GEO:40.8639086;-115.7337943
X-APPLE-STRUCTURED-LOCATION;VALUE=URI;X-ADDRESS=NV Highway Patrol Training Room 3920 E. Idaho Street Elko NV 89801 United States;X-APPLE-RADIUS=500;X-TITLE=3920 E. Idaho Street:geo:-115.7337943,40.8639086
END:VEVENT
BEGIN:VEVENT
DTSTART;TZID=UTC:20170928T090000
DTEND;TZID=UTC:20170928T110000
DTSTAMP:20260423T163851
CREATED:20170803T010745Z
LAST-MODIFIED:20170907T014429Z
UID:30022-1506589200-1506596400@nvtim.com
SUMMARY:Ely TIM Coalition Meeting
DESCRIPTION:The next Ely TIM Coalition meeting and luncheon is September 26. \nThe focus of this meeting includes developing area-specific TIM Plans. Lunch will be provided. \nThe steering committee meeting will follow immediately after at 11:00 – 12:00. \nClick here to register for this event. \nPlease contact Pat Gallagher at pat.gallagher@parsons.com or rita.brohman@parsons.com if you have any questions.
URL:https://nvtim.com/event/ely-tim-coalition-meeting/
LOCATION:White Pine County Fire (next to airport)\, 1150 US-93\, Ely\, NV\, 89301\, United States
ORGANIZER;CN="Nevada TIM Coalitions":MAILTO:rita.brohman@parsons.com
GEO:39.2487767;-114.8718215
X-APPLE-STRUCTURED-LOCATION;VALUE=URI;X-ADDRESS=White Pine County Fire (next to airport) 1150 US-93 Ely NV 89301 United States;X-APPLE-RADIUS=500;X-TITLE=1150 US-93:geo:-114.8718215,39.2487767
END:VEVENT
END:VCALENDAR