BEGIN:VCALENDAR
VERSION:2.0
PRODID:-//NVTIM - Nevada Traffic Incident Management - ECPv6.15.20//NONSGML v1.0//EN
CALSCALE:GREGORIAN
METHOD:PUBLISH
X-ORIGINAL-URL:https://nvtim.com
X-WR-CALDESC:Events for NVTIM - Nevada Traffic Incident Management
REFRESH-INTERVAL;VALUE=DURATION:PT1H
X-Robots-Tag:noindex
X-PUBLISHED-TTL:PT1H
BEGIN:VTIMEZONE
TZID:UTC
BEGIN:STANDARD
TZOFFSETFROM:+0000
TZOFFSETTO:+0000
TZNAME:UTC
DTSTART:20170101T000000
END:STANDARD
END:VTIMEZONE
BEGIN:VEVENT
DTSTART;TZID=UTC:20180613T080000
DTEND;TZID=UTC:20180613T120000
DTSTAMP:20260419T062614
CREATED:20180306T042736Z
LAST-MODIFIED:20180306T042900Z
UID:36423-1528876800-1528891200@nvtim.com
SUMMARY:Nevada 4 Hour TIM Training - Northern Nevada - Morning
DESCRIPTION:The Nevada TIM Training is built on the National TIM Responder Training Program\, developed by responders for responders.  It was designed to establish the foundation for and promote consistent training of all responders to achieve the three objectives of the TIM National Unified Goal (NUG): \n\nResponder Safety\nSafe\, Quick Clearance\nPrompt\, Reliable\, Interoperable Communications\n\nThe 4-Hour TIM course is intended to provide participating first responders the knowledge and materials necessary for clearing critical incidents as quickly as possible and reducing secondary crashes. Scene safety\, communication\, and relationship building will be emphasized in a multi-agency training approach with highly qualified instructors from multiple law enforcement agencies\, fire agencies\, NDOT\, towing\, and private sector emergency responders. The course structure will consist of 4 hours of training with credit for engineering and Post Law. \n\nPlease click here to register for this training.
URL:https://nvtim.com/event/nevada-4-hour-tim-training-northern-nevada-morning-2/
LOCATION:NHP Northern Command\, 357 Hammill Lane\, Reno\, NV\, 89511\, United States
ORGANIZER;CN="Nevada TIM Coalitions":MAILTO:rita.brohman@parsons.com
GEO:39.4729624;-119.7913219
X-APPLE-STRUCTURED-LOCATION;VALUE=URI;X-ADDRESS=NHP Northern Command 357 Hammill Lane Reno NV 89511 United States;X-APPLE-RADIUS=500;X-TITLE=357 Hammill Lane:geo:-119.7913219,39.4729624
END:VEVENT
BEGIN:VEVENT
DTSTART;TZID=UTC:20180613T130000
DTEND;TZID=UTC:20180613T170000
DTSTAMP:20260419T062614
CREATED:20180306T043049Z
LAST-MODIFIED:20180306T043417Z
UID:36425-1528894800-1528909200@nvtim.com
SUMMARY:Nevada 4 Hour TIM Training - Northern Nevada - Afternoon
DESCRIPTION:The Nevada TIM Training is built on the National TIM Responder Training Program\, developed by responders for responders.  It was designed to establish the foundation for and promote consistent training of all responders to achieve the three objectives of the TIM National Unified Goal (NUG): \n\nResponder Safety\nSafe\, Quick Clearance\nPrompt\, Reliable\, Interoperable Communications\n\nThe 4-Hour TIM course is intended to provide participating first responders the knowledge and materials necessary for clearing critical incidents as quickly as possible and reducing secondary crashes. Scene safety\, communication\, and relationship building will be emphasized in a multi-agency training approach with highly qualified instructors from multiple law enforcement agencies\, fire agencies\, NDOT\, towing\, and private sector emergency responders. The course structure will consist of 4 hours of training with credit for engineering and Post Law. \n\nPlease click here to register for this training.
URL:https://nvtim.com/event/nevada-4-hour-tim-training-northern-nevada-afternoon/
LOCATION:NHP Northern Command\, 357 Hammill Lane\, Reno\, NV\, 89511\, United States
ORGANIZER;CN="Nevada TIM Coalitions":MAILTO:rita.brohman@parsons.com
GEO:39.4729624;-119.7913219
X-APPLE-STRUCTURED-LOCATION;VALUE=URI;X-ADDRESS=NHP Northern Command 357 Hammill Lane Reno NV 89511 United States;X-APPLE-RADIUS=500;X-TITLE=357 Hammill Lane:geo:-119.7913219,39.4729624
END:VEVENT
BEGIN:VEVENT
DTSTART;TZID=UTC:20180614T070000
DTEND;TZID=UTC:20180615T170000
DTSTAMP:20260419T062614
CREATED:20180607T031526Z
LAST-MODIFIED:20180607T031526Z
UID:36666-1528959600-1529082000@nvtim.com
SUMMARY:Las Vegas\, Nevada Train-the-Trainer TIM Training
DESCRIPTION:The Train-the-Trainer (TtT) course is intended to provide participants (i.e.\, trainers) the\nknowledge and materials necessary for them to conduct TIM training for responders\nin their area or state. The TtT is a 2-day course that includes classroom training and\nhands-on activities. \nParticipant expectations:\n– Prior instructional and TIM experience\n– Commitment to providing training to other TIM responders in your area\n– Commitment to submitting your training records via the SharePoint site \nThe target audience for this course is all TIM disciplines\, including: Communications\,\nEmergency Management\, Emergency Medical Services (EMS)\, Fire/Rescue\, Law\nEnforcement\, Towing and Recovery\, and Transportation/Public Works. \nDetails for the upcoming Nevada TIM TtT course are as follows:\nDay 1: Thursday\, June 14\, 2018 • 7:00 am – 5:00 pm\nDay 2: Friday\, June 15\, 2018 • 7:00 am – 5:00 pm \nYou must CLICK HERE to register for this event. \nClick HERE to view the event flyer.
URL:https://nvtim.com/event/las-vegas-nevada-train-the-trainer-tim-training/
LOCATION:Microsoft Teams
ORGANIZER;CN="Nevada TIM Coalitions":MAILTO:rita.brohman@parsons.com
GEO:36.0709091;-115.2048635
END:VEVENT
END:VCALENDAR