BEGIN:VCALENDAR
VERSION:2.0
PRODID:-//NVTIM - Nevada Traffic Incident Management - ECPv6.15.20//NONSGML v1.0//EN
CALSCALE:GREGORIAN
METHOD:PUBLISH
X-WR-CALNAME:NVTIM - Nevada Traffic Incident Management
X-ORIGINAL-URL:https://nvtim.com
X-WR-CALDESC:Events for NVTIM - Nevada Traffic Incident Management
REFRESH-INTERVAL;VALUE=DURATION:PT1H
X-Robots-Tag:noindex
X-PUBLISHED-TTL:PT1H
BEGIN:VTIMEZONE
TZID:America/Los_Angeles
BEGIN:DAYLIGHT
TZOFFSETFROM:-0800
TZOFFSETTO:-0700
TZNAME:PDT
DTSTART:20210314T100000
END:DAYLIGHT
BEGIN:STANDARD
TZOFFSETFROM:-0700
TZOFFSETTO:-0800
TZNAME:PST
DTSTART:20211107T090000
END:STANDARD
BEGIN:DAYLIGHT
TZOFFSETFROM:-0800
TZOFFSETTO:-0700
TZNAME:PDT
DTSTART:20220313T100000
END:DAYLIGHT
BEGIN:STANDARD
TZOFFSETFROM:-0700
TZOFFSETTO:-0800
TZNAME:PST
DTSTART:20221106T090000
END:STANDARD
BEGIN:DAYLIGHT
TZOFFSETFROM:-0800
TZOFFSETTO:-0700
TZNAME:PDT
DTSTART:20230312T100000
END:DAYLIGHT
BEGIN:STANDARD
TZOFFSETFROM:-0700
TZOFFSETTO:-0800
TZNAME:PST
DTSTART:20231105T090000
END:STANDARD
END:VTIMEZONE
BEGIN:VEVENT
DTSTART;VALUE=DATE:20220411
DTEND;VALUE=DATE:20220416
DTSTAMP:20260425T195236
CREATED:20220222T182006Z
LAST-MODIFIED:20220331T165949Z
UID:39729-1649635200-1650067199@nvtim.com
SUMMARY:National Work Zone Awareness Week
DESCRIPTION:National Work Zone Awareness Week will be April 11-15\, 2022. \nNational Work Zone Awareness Week (NWZAW) is an annual spring campaign held at the start of construction season encourages safe driving through highway work zones. The key message is for drivers to use extra caution in work zones. NWZAW will be held April 11-15 this year and will be hosted by the Virginia Department of Transportation (VDOT). Learn all about this year’s theme and schedule of events. \nFurther information for this can be found at: https://www.nwzaw.org/ \nNWZAW 2022
URL:https://nvtim.com/event/national-work-zone-awareness-week-2/
END:VEVENT
BEGIN:VEVENT
DTSTART;TZID=America/Los_Angeles:20220413T080000
DTEND;TZID=America/Los_Angeles:20220413T120000
DTSTAMP:20260425T195236
CREATED:20211201T180034Z
LAST-MODIFIED:20220330T145416Z
UID:39032-1649836800-1649851200@nvtim.com
SUMMARY:Nevada TIM SHRP2 4-HourTraining Class - Reno
DESCRIPTION:Please join us for the SHRP2 4-hr TIM Training Class which will be held in-person. ALL current COVID-19 guidelines will be followed. Location for this training is: \nReno Fire Department \n7105 Mae Anne Ave. \nReno\, Nevada 89523 \n  \nPlease send any requests for training to: \ndavid.strawn@parsons. com \nOffice: (702) 789-2027 \nCell: (702) 885-4944
URL:https://nvtim.com/event/nevada-tim-shrp2-4-hourtraining-class-reno-2/
END:VEVENT
END:VCALENDAR