BEGIN:VCALENDAR
VERSION:2.0
PRODID:-//NVTIM - Nevada Traffic Incident Management - ECPv6.15.20//NONSGML v1.0//EN
CALSCALE:GREGORIAN
METHOD:PUBLISH
X-WR-CALNAME:NVTIM - Nevada Traffic Incident Management
X-ORIGINAL-URL:https://nvtim.com
X-WR-CALDESC:Events for NVTIM - Nevada Traffic Incident Management
REFRESH-INTERVAL;VALUE=DURATION:PT1H
X-Robots-Tag:noindex
X-PUBLISHED-TTL:PT1H
BEGIN:VTIMEZONE
TZID:America/Los_Angeles
BEGIN:DAYLIGHT
TZOFFSETFROM:-0800
TZOFFSETTO:-0700
TZNAME:PDT
DTSTART:20210314T100000
END:DAYLIGHT
BEGIN:STANDARD
TZOFFSETFROM:-0700
TZOFFSETTO:-0800
TZNAME:PST
DTSTART:20211107T090000
END:STANDARD
BEGIN:DAYLIGHT
TZOFFSETFROM:-0800
TZOFFSETTO:-0700
TZNAME:PDT
DTSTART:20220313T100000
END:DAYLIGHT
BEGIN:STANDARD
TZOFFSETFROM:-0700
TZOFFSETTO:-0800
TZNAME:PST
DTSTART:20221106T090000
END:STANDARD
BEGIN:DAYLIGHT
TZOFFSETFROM:-0800
TZOFFSETTO:-0700
TZNAME:PDT
DTSTART:20230312T100000
END:DAYLIGHT
BEGIN:STANDARD
TZOFFSETFROM:-0700
TZOFFSETTO:-0800
TZNAME:PST
DTSTART:20231105T090000
END:STANDARD
END:VTIMEZONE
BEGIN:VEVENT
DTSTART;TZID=America/Los_Angeles:20220425T083000
DTEND;TZID=America/Los_Angeles:20220425T123000
DTSTAMP:20260425T195500
CREATED:20220330T173321Z
LAST-MODIFIED:20220330T173321Z
UID:39805-1650875400-1650889800@nvtim.com
SUMMARY:Nevada SHRP2 TIM 4-Hour Training Class – Boulder City (Limited Availability)
DESCRIPTION:Please join us for the SHRP2 4-hr TIM Training Class which will be held in-person. ALL current COVID-19 guidelines will be followed. Location for this training is: \nBoulder City Fire Department / Station #121 \n1101 Elm Ave.\, Boulder City\, NV 89005 \n  \n*** THIS TRAINING HAS A LIMITED AMOUNT OF AVAILABILITY. YOU MUST CONTACT DAVE STRAWN TO SEE IF THERE ARE AVAILABLE SPOTS FOR THE CLASS. PLEASE SEE BLEOW OF THE CONTACT INFORMATION. *** \n  \nPlease send any requests for training to: \ndavid.strawn@parsons. com \nOffice: (702) 789-2027 \nCell: (702) 885-4944
URL:https://nvtim.com/event/nevada-shrp2-tim-4-hour-training-class-boulder-city-limited-availability/
END:VEVENT
BEGIN:VEVENT
DTSTART;TZID=America/Los_Angeles:20220426T113000
DTEND;TZID=America/Los_Angeles:20220426T140000
DTSTAMP:20260425T195500
CREATED:20211201T163433Z
LAST-MODIFIED:20211201T163433Z
UID:38999-1650972600-1650981600@nvtim.com
SUMMARY:TIM Coalition Meeting - Northern Nevada
DESCRIPTION:Please join us for the upcoming TIM Coalition meeting for Northern Nevada. This meeting will be held in person and will take place at the following location: \nAGC Building \n5400 Mill St. \nReno\, Nevada 89502 \n  \nTo register for this event\, please complete the registration form. \nhttps://nvtim.com/event-registration-form/ [nvtim.com] \n  \nAny questions for this meeting\, please contact:  \nRita Brohman \n(916) 847-9480 \nRita.Brohman@parsons.com \n 
URL:https://nvtim.com/event/tim-coalition-meeting-northern-nevada-8/
END:VEVENT
BEGIN:VEVENT
DTSTART;TZID=America/Los_Angeles:20220427T080000
DTEND;TZID=America/Los_Angeles:20220427T120000
DTSTAMP:20260425T195500
CREATED:20220412T153931Z
LAST-MODIFIED:20220412T153931Z
UID:39841-1651046400-1651060800@nvtim.com
SUMMARY:Nevada TIM SHRP2 4-HourTraining Class – Tonopah
DESCRIPTION:Please join us for the SHRP2 4-hr TIM Training Class which will be held in-person. ALL current COVID-19 guidelines will be followed. Location for this training is: \nTonopah Convention Center \n301 Brougher Ave.\, Tonopah\, Nevada 89049 \nPlease send any requests for training to: \nDave Strawn (Parsons) \ndavid.strawn@parsons. com \nOffice: (702) 789-2027 \nCell: (702) 885-4944 \nOR \nKat Shampang (NSP) \nkmshampang@dps.state.nv.us \nOffice: (775) 482-6330
URL:https://nvtim.com/event/nevada-tim-shrp2-4-hourtraining-class-tonopah/
END:VEVENT
BEGIN:VEVENT
DTSTART;TZID=America/Los_Angeles:20220427T120000
DTEND;TZID=America/Los_Angeles:20220427T133000
DTSTAMP:20260425T195500
CREATED:20211201T165402Z
LAST-MODIFIED:20220412T164211Z
UID:39003-1651060800-1651066200@nvtim.com
SUMMARY:TIM Coalition Meeting - Tonopah
DESCRIPTION:Please join us for the upcoming TIM Coalition meeting for Tonopah\, Nevada. This meeting will be held in person and will take place at the following location: \nTonopah Convention Center \n301 Brougher Ave. \nTonopah\, NV 89049 \n  \nTo register for this event\, please complete the registration form.  \nhttps://nvtim.com/event-registration-form/ [nvtim.com] \n  \nAny questions for this meeting\, please contact:  \nRita Brohman \n(916) 847-9480 \nRita.Brohman@parsons.com
URL:https://nvtim.com/event/tim-coalition-meeting-tonopah/
END:VEVENT
BEGIN:VEVENT
DTSTART;TZID=America/Los_Angeles:20220428T080000
DTEND;TZID=America/Los_Angeles:20220428T120000
DTSTAMP:20260425T195500
CREATED:20220330T154311Z
LAST-MODIFIED:20220330T154311Z
UID:39801-1651132800-1651147200@nvtim.com
SUMMARY:Nevada TIM SHRP2 4-Hour Training Class - Eureka\, NV
DESCRIPTION:Please join us for the SHRP2 4-hr TIM Training Class which will be held in-person. ALL current COVID-19 guidelines will be followed. Location for this training is: \nEureka Opera House \n31 S. Main St. \nEureka\, NV 89316 \n  \nPlease send any requests for training to: \nClara Bundy (Eureka County Sheriff’s Office) \nOffice: (775) 237-5330 \nEmail: CBundy@EurekaCountyNV.gov
URL:https://nvtim.com/event/nevada-tim-shrp2-4-hour-training-class-eureka-nv/
END:VEVENT
BEGIN:VEVENT
DTSTART;TZID=America/Los_Angeles:20220428T113000
DTEND;TZID=America/Los_Angeles:20220428T140000
DTSTAMP:20260425T195500
CREATED:20211201T163707Z
LAST-MODIFIED:20211201T163707Z
UID:39001-1651145400-1651154400@nvtim.com
SUMMARY:TIM Coalition Meeting - Southern Nevada
DESCRIPTION:Please join us for the upcoming TIM Coalition meeting for Southern Nevada. This meeting will be held in person and will take place at the following location: \nNevada Highway Patrol – Southern Command / Rm A105 \n4615 W. Sunset Rd \nLas Vegas\, Nevada 89119 \n  \nTo register for this event\, please complete the registration form. \nhttps://nvtim.com/event-registration-form/ [nvtim.com] \n  \nAny questions for this meeting\, please contact:  \nRita Brohman \n(916) 847-9480 \nRita.Brohman@parsons.com
URL:https://nvtim.com/event/tim-coalition-meeting-southern-nevada-8/
END:VEVENT
BEGIN:VEVENT
DTSTART;TZID=America/Los_Angeles:20220428T130000
DTEND;TZID=America/Los_Angeles:20220428T170000
DTSTAMP:20260425T195500
CREATED:20220330T154436Z
LAST-MODIFIED:20220330T154436Z
UID:39803-1651150800-1651165200@nvtim.com
SUMMARY:Nevada TIM SHRP2 4-Hour Training Class - Eureka
DESCRIPTION:Please join us for the SHRP2 4-hr TIM Training Class which will be held in-person. ALL current COVID-19 guidelines will be followed. Location for this training is: \nEureka Opera House \n31 S. Main St. \nEureka\, NV 89316 \n  \nPlease send any requests for training to: \nClara Bundy (Eureka County Sheriff’s Office) \nOffice: (775) 237-5330 \nEmail: CBundy@EurekaCountyNV.gov
URL:https://nvtim.com/event/nevada-tim-shrp2-4-hour-training-class-eureka/
END:VEVENT
BEGIN:VEVENT
DTSTART;TZID=America/Los_Angeles:20220429T080000
DTEND;TZID=America/Los_Angeles:20220429T120000
DTSTAMP:20260425T195500
CREATED:20220330T174039Z
LAST-MODIFIED:20220330T174135Z
UID:39808-1651219200-1651233600@nvtim.com
SUMMARY:Nevada TIM SHRP2 4-Hour Training Class - Crescent Valley
DESCRIPTION:Please join us for the SHRP2 4-hr TIM Training Class which will be held in-person. ALL current COVID-19 guidelines will be followed. Location for this training is: \nCrescent Valley \n203820 Crescent Valley\, NV 89821 \n  \nPlease send any requests for training to: \nClara Bundy (Eureka County Sheriff’s Office) \nOffice: (775) 237-5330 \nEmail: CBundy@EurekaCountyNV.gov
URL:https://nvtim.com/event/nevada-tim-shrp2-4-hour-training-class-crescent-valley/
END:VEVENT
END:VCALENDAR