BEGIN:VCALENDAR
VERSION:2.0
PRODID:-//NVTIM - Nevada Traffic Incident Management - ECPv6.15.20//NONSGML v1.0//EN
CALSCALE:GREGORIAN
METHOD:PUBLISH
X-WR-CALNAME:NVTIM - Nevada Traffic Incident Management
X-ORIGINAL-URL:https://nvtim.com
X-WR-CALDESC:Events for NVTIM - Nevada Traffic Incident Management
REFRESH-INTERVAL;VALUE=DURATION:PT1H
X-Robots-Tag:noindex
X-PUBLISHED-TTL:PT1H
BEGIN:VTIMEZONE
TZID:America/Los_Angeles
BEGIN:DAYLIGHT
TZOFFSETFROM:-0800
TZOFFSETTO:-0700
TZNAME:PDT
DTSTART:20210314T100000
END:DAYLIGHT
BEGIN:STANDARD
TZOFFSETFROM:-0700
TZOFFSETTO:-0800
TZNAME:PST
DTSTART:20211107T090000
END:STANDARD
BEGIN:DAYLIGHT
TZOFFSETFROM:-0800
TZOFFSETTO:-0700
TZNAME:PDT
DTSTART:20220313T100000
END:DAYLIGHT
BEGIN:STANDARD
TZOFFSETFROM:-0700
TZOFFSETTO:-0800
TZNAME:PST
DTSTART:20221106T090000
END:STANDARD
BEGIN:DAYLIGHT
TZOFFSETFROM:-0800
TZOFFSETTO:-0700
TZNAME:PDT
DTSTART:20230312T100000
END:DAYLIGHT
BEGIN:STANDARD
TZOFFSETFROM:-0700
TZOFFSETTO:-0800
TZNAME:PST
DTSTART:20231105T090000
END:STANDARD
END:VTIMEZONE
BEGIN:VEVENT
DTSTART;TZID=America/Los_Angeles:20221005T080000
DTEND;TZID=America/Los_Angeles:20221005T120000
DTSTAMP:20260425T083323
CREATED:20211201T171937Z
LAST-MODIFIED:20211201T171937Z
UID:39019-1664956800-1664971200@nvtim.com
SUMMARY:Nevada SHRP2 TIM 4-Hour Training Class – Tonopah
DESCRIPTION:Please join us for the SHRP2 4-hr TIM Training Class which will be held in-person. ALL current COVID-19 guidelines will be followed. Location for this training is: \nTonopah Convention Center \n301 Brougher Ave. \nTonopah\, NV 89049 \n  \nPlease send any requests for training to: \ndavid.strawn@parsons. com \nOffice: (702) 789-2027 \nCell: (702) 885-4944
URL:https://nvtim.com/event/nevada-shrp2-tim-4-hour-training-class-tonopah/
END:VEVENT
BEGIN:VEVENT
DTSTART;TZID=America/Los_Angeles:20221005T120000
DTEND;TZID=America/Los_Angeles:20221005T140000
DTSTAMP:20260425T083323
CREATED:20211201T172135Z
LAST-MODIFIED:20211201T172135Z
UID:39021-1664971200-1664978400@nvtim.com
SUMMARY:TIM Coalition Meeting - Tonopah
DESCRIPTION:Please join us for the upcoming TIM Coalition meeting for Tonopah\, Nevada. This meeting will be held in person and will take place at the following location: \nTonopah Convention Center \n301 Brougher Ave. \nTonopah\, NV 89049 \n  \nTo register for this event\, please complete the registration form. \nhttps://nvtim.com/event-registration-form/ [nvtim.com] \n  \nAny questions for this meeting\, please contact:  \nRita Brohman \n(916) 847-9480 \nRita.Brohman@parsons.com
URL:https://nvtim.com/event/tim-coalition-meeting-tonopah-3/
END:VEVENT
END:VCALENDAR