BEGIN:VCALENDAR
VERSION:2.0
PRODID:-//NVTIM - Nevada Traffic Incident Management - ECPv6.15.20//NONSGML v1.0//EN
CALSCALE:GREGORIAN
METHOD:PUBLISH
X-ORIGINAL-URL:https://nvtim.com
X-WR-CALDESC:Events for NVTIM - Nevada Traffic Incident Management
REFRESH-INTERVAL;VALUE=DURATION:PT1H
X-Robots-Tag:noindex
X-PUBLISHED-TTL:PT1H
BEGIN:VTIMEZONE
TZID:America/Los_Angeles
BEGIN:DAYLIGHT
TZOFFSETFROM:-0800
TZOFFSETTO:-0700
TZNAME:PDT
DTSTART:20230312T100000
END:DAYLIGHT
BEGIN:STANDARD
TZOFFSETFROM:-0700
TZOFFSETTO:-0800
TZNAME:PST
DTSTART:20231105T090000
END:STANDARD
BEGIN:DAYLIGHT
TZOFFSETFROM:-0800
TZOFFSETTO:-0700
TZNAME:PDT
DTSTART:20240310T100000
END:DAYLIGHT
BEGIN:STANDARD
TZOFFSETFROM:-0700
TZOFFSETTO:-0800
TZNAME:PST
DTSTART:20241103T090000
END:STANDARD
BEGIN:DAYLIGHT
TZOFFSETFROM:-0800
TZOFFSETTO:-0700
TZNAME:PDT
DTSTART:20250309T100000
END:DAYLIGHT
BEGIN:STANDARD
TZOFFSETFROM:-0700
TZOFFSETTO:-0800
TZNAME:PST
DTSTART:20251102T090000
END:STANDARD
END:VTIMEZONE
BEGIN:VEVENT
DTSTART;TZID=America/Los_Angeles:20240923T103000
DTEND;TZID=America/Los_Angeles:20240923T130000
DTSTAMP:20260425T042434
CREATED:20231205T201203Z
LAST-MODIFIED:20240404T155357Z
UID:41866-1727087400-1727096400@nvtim.com
SUMMARY:Nevada TIM Coalition Meeting – Tonopah
DESCRIPTION:Please join us for the upcoming TIM Coalition meeting for Tonopah\, Nevada. This meeting will be held in person and will take place at the following location: \nTonopah Convention Center \n301 Brougher Ave. \nTonopah\, NV 89049 \n  \nTo register for this event\, please complete the registration form. \nhttps://nvtim.com/event-registration-form/ [nvtim.com] \n  \nAny questions for this meeting\, please contact:  \nKim Peters \nMobile: (714) 334.5607 \nkim.peters@parsons.com
URL:https://nvtim.com/event/nevada-tim-coalition-meeting-tonopah-4/
END:VEVENT
BEGIN:VEVENT
DTSTART;TZID=America/Los_Angeles:20240924T103000
DTEND;TZID=America/Los_Angeles:20240924T130000
DTSTAMP:20260425T042434
CREATED:20231205T201302Z
LAST-MODIFIED:20240404T160402Z
UID:41868-1727173800-1727182800@nvtim.com
SUMMARY:Nevada TIM Coalition Meeting – Winnemucca
DESCRIPTION:Please join us for the upcoming TIM Coalition meeting for Winnemucca\, Nevada. This meeting will be held in person and will take place at the following location: \nWinnemucca Fire Station \n  \nTo register for this event\, please complete the registration form. \nhttps://nvtim.com/event-registration-form/ [nvtim.com] \n  \nAny questions for this meeting\, please contact:  \nKim Peters \nMobile: (714) 334.5607 \nkim.peters@parsons.com
URL:https://nvtim.com/event/nevada-tim-coalition-meeting-winnemucca-4/
END:VEVENT
BEGIN:VEVENT
DTSTART;TZID=America/Los_Angeles:20240925T103000
DTEND;TZID=America/Los_Angeles:20240925T130000
DTSTAMP:20260425T042434
CREATED:20231205T201410Z
LAST-MODIFIED:20240404T160720Z
UID:41870-1727260200-1727269200@nvtim.com
SUMMARY:Nevada TIM Coalition Meeting – Elko
DESCRIPTION:Please join us for the upcoming TIM Coalition meeting for Elko\, Nevada. This meeting will be held in person and will take place at the following location: \nNHP office below DMV \n  \nTo register for this event\, please complete the registration form. \nhttps://nvtim.com/event-registration-form/ [nvtim.com] \n  \nAny questions for this meeting\, please contact:  \nKim Peters \nMobile: (714) 334.5607 \nkim.peters@parsons.com
URL:https://nvtim.com/event/nevada-tim-coalition-meeting-elko-3/
END:VEVENT
BEGIN:VEVENT
DTSTART;TZID=America/Los_Angeles:20240926T103000
DTEND;TZID=America/Los_Angeles:20240926T130000
DTSTAMP:20260425T042434
CREATED:20231205T201505Z
LAST-MODIFIED:20240404T160800Z
UID:41872-1727346600-1727355600@nvtim.com
SUMMARY:Nevada TIM Coalition Meeting – Ely
DESCRIPTION:Please join us for the upcoming TIM Coalition meeting for Ely\, Nevada. This meeting will be held in person and will take place at the following location: \n545 Mill Ave \nEly\, NV 89301 \n  \nTo register for this event\, please complete the registration form. \nhttps://nvtim.com/event-registration-form/ [nvtim.com] \n  \nAny questions for this meeting\, please contact:  \nKim Peters \nMobile: (714) 334.5607 \nkim.peters@parsons.com
URL:https://nvtim.com/event/nevada-tim-coalition-meeting-ely-4/
END:VEVENT
END:VCALENDAR