BEGIN:VCALENDAR
VERSION:2.0
PRODID:-//NVTIM - Nevada Traffic Incident Management - ECPv6.15.20//NONSGML v1.0//EN
CALSCALE:GREGORIAN
METHOD:PUBLISH
X-WR-CALNAME:NVTIM - Nevada Traffic Incident Management
X-ORIGINAL-URL:https://nvtim.com
X-WR-CALDESC:Events for NVTIM - Nevada Traffic Incident Management
REFRESH-INTERVAL;VALUE=DURATION:PT1H
X-Robots-Tag:noindex
X-PUBLISHED-TTL:PT1H
BEGIN:VTIMEZONE
TZID:America/Los_Angeles
BEGIN:DAYLIGHT
TZOFFSETFROM:-0800
TZOFFSETTO:-0700
TZNAME:PDT
DTSTART:20240310T100000
END:DAYLIGHT
BEGIN:STANDARD
TZOFFSETFROM:-0700
TZOFFSETTO:-0800
TZNAME:PST
DTSTART:20241103T090000
END:STANDARD
BEGIN:DAYLIGHT
TZOFFSETFROM:-0800
TZOFFSETTO:-0700
TZNAME:PDT
DTSTART:20250309T100000
END:DAYLIGHT
BEGIN:STANDARD
TZOFFSETFROM:-0700
TZOFFSETTO:-0800
TZNAME:PST
DTSTART:20251102T090000
END:STANDARD
BEGIN:DAYLIGHT
TZOFFSETFROM:-0800
TZOFFSETTO:-0700
TZNAME:PDT
DTSTART:20260308T100000
END:DAYLIGHT
BEGIN:STANDARD
TZOFFSETFROM:-0700
TZOFFSETTO:-0800
TZNAME:PST
DTSTART:20261101T090000
END:STANDARD
END:VTIMEZONE
BEGIN:VEVENT
DTSTART;TZID=America/Los_Angeles:20251104T090000
DTEND;TZID=America/Los_Angeles:20251104T130000
DTSTAMP:20260425T154054
CREATED:20251009T184131Z
LAST-MODIFIED:20251009T184131Z
UID:43609-1762246800-1762261200@nvtim.com
SUMMARY:Nevada TIM SHRP2 4-HourTraining Class – Tonopah Class #1
DESCRIPTION:Please join us in Tonopah for the SHRP2 4-hr TIM Training Class which will be held in-person. Here are the details:  \nTonopah Convention Center \n301 Brougher Ave.\, Tonopah\, NV 89049 \nTo register for the free class or other information\, please contact: \n  \nDavid Strawn (Parsons) \ndavid.strawn@parsons.com \nOffice: (702) 789-2027 \nCell: (702) 885-4944 \nOr \nSgt. Loy Hixson (NSP) \nlhixson@dps.state.nv.us \nCell: (702) 861-2579
URL:https://nvtim.com/event/nevada-tim-shrp2-4-hourtraining-class-tonopah-class-1/
END:VEVENT
BEGIN:VEVENT
DTSTART;TZID=America/Los_Angeles:20251104T170000
DTEND;TZID=America/Los_Angeles:20251104T210000
DTSTAMP:20260425T154054
CREATED:20251009T184407Z
LAST-MODIFIED:20251009T184407Z
UID:43611-1762275600-1762290000@nvtim.com
SUMMARY:Nevada TIM SHRP2 4-HourTraining Class – Tonopah Class #2
DESCRIPTION:Please join us in Tonopah for the SHRP2 4-hr TIM Training Class which will be held in-person. Here are the details:  \nTonopah Convention Center \n301 Brougher Ave.\, Tonopah\, NV 89049 \nTo register for the free class or other information\, please contact: \n  \nDavid Strawn (Parsons) \ndavid.strawn@parsons.com \nOffice: (702) 789-2027 \nCell: (702) 885-4944 \nOr \nSgt. Loy Hixson (NSP) \nlhixson@dps.state.nv.us \nCell: (702) 861-2579
URL:https://nvtim.com/event/nevada-tim-shrp2-4-hourtraining-class-tonopah-class-2/
END:VEVENT
END:VCALENDAR