BEGIN:VCALENDAR
VERSION:2.0
PRODID:-//NVTIM - Nevada Traffic Incident Management - ECPv6.15.20//NONSGML v1.0//EN
CALSCALE:GREGORIAN
METHOD:PUBLISH
X-ORIGINAL-URL:https://nvtim.com
X-WR-CALDESC:Events for NVTIM - Nevada Traffic Incident Management
REFRESH-INTERVAL;VALUE=DURATION:PT1H
X-Robots-Tag:noindex
X-PUBLISHED-TTL:PT1H
BEGIN:VTIMEZONE
TZID:America/Los_Angeles
BEGIN:DAYLIGHT
TZOFFSETFROM:-0800
TZOFFSETTO:-0700
TZNAME:PDT
DTSTART:20250309T100000
END:DAYLIGHT
BEGIN:STANDARD
TZOFFSETFROM:-0700
TZOFFSETTO:-0800
TZNAME:PST
DTSTART:20251102T090000
END:STANDARD
BEGIN:DAYLIGHT
TZOFFSETFROM:-0800
TZOFFSETTO:-0700
TZNAME:PDT
DTSTART:20260308T100000
END:DAYLIGHT
BEGIN:STANDARD
TZOFFSETFROM:-0700
TZOFFSETTO:-0800
TZNAME:PST
DTSTART:20261101T090000
END:STANDARD
BEGIN:DAYLIGHT
TZOFFSETFROM:-0800
TZOFFSETTO:-0700
TZNAME:PDT
DTSTART:20270314T100000
END:DAYLIGHT
BEGIN:STANDARD
TZOFFSETFROM:-0700
TZOFFSETTO:-0800
TZNAME:PST
DTSTART:20271107T090000
END:STANDARD
END:VTIMEZONE
BEGIN:VEVENT
DTSTART;TZID=America/Los_Angeles:20260427T110000
DTEND;TZID=America/Los_Angeles:20260427T150000
DTSTAMP:20260425T052309
CREATED:20260420T185845Z
LAST-MODIFIED:20260420T185845Z
UID:45221-1777287600-1777302000@nvtim.com
SUMMARY:Nevada TIM SHRP2 4-Hour Training Class – Rural
DESCRIPTION:Please join us in Hawthorne\, NV for the SHRP2 4-hr TIM Training Class which will be held in-person. This class is a free class that is focused on enhancing knowledge to be used at crash incidents. Knowledge will include scene awareness\, traffic management\, communication\, and other items that will help all first responders while they work & clear the scene. There is no cost to attend this very worthwhile class. We look forward to seeing you. \nHere are the details: \nMineral County Public Admin. Building \n205 South A Street Hawthorne\, NV 89415 \n  \nTo register for the class or other information\, please contact: \n  \nDavid Strawn (Parsons) \ndavid.strawn@parsons.com \nOffice: (702) 789-2027 \nCell: (702) 885-4944 \nOR \nAsst. Chief Heidi Johnson (MC Fire) \nhjohnson@mineralcountynv.org \nCell: (775) 217-5801
URL:https://nvtim.com/event/nevada-tim-shrp2-4-hour-training-class-rural/
END:VEVENT
BEGIN:VEVENT
DTSTART;TZID=America/Los_Angeles:20260427T170000
DTEND;TZID=America/Los_Angeles:20260427T210000
DTSTAMP:20260425T052309
CREATED:20260420T185955Z
LAST-MODIFIED:20260420T185955Z
UID:45223-1777309200-1777323600@nvtim.com
SUMMARY:Nevada TIM SHRP2 4-Hour Training Class – Rural
DESCRIPTION:Please join us in Hawthorne\, NV for the SHRP2 4-hr TIM Training Class which will be held in-person. This class is a free class that is focused on enhancing knowledge to be used at crash incidents. Knowledge will include scene awareness\, traffic management\, communication\, and other items that will help all first responders while they work & clear the scene. There is no cost to attend this very worthwhile class. We look forward to seeing you. \nHere are the details: \nMineral County Public Admin. Building \n205 South A Street Hawthorne\, NV 89415 \n  \nTo register for the class or other information\, please contact: \n  \nDavid Strawn (Parsons) \ndavid.strawn@parsons.com \nOffice: (702) 789-2027 \nCell: (702) 885-4944 \nOR \nAsst. Chief Heidi Johnson (MC Fire) \nhjohnson@mineralcountynv.org \nCell: (775) 217-5801
URL:https://nvtim.com/event/nevada-tim-shrp2-4-hour-training-class-rural-2/
END:VEVENT
BEGIN:VEVENT
DTSTART;TZID=America/Los_Angeles:20260428T080000
DTEND;TZID=America/Los_Angeles:20260428T120000
DTSTAMP:20260425T052309
CREATED:20260420T190531Z
LAST-MODIFIED:20260420T190531Z
UID:45225-1777363200-1777377600@nvtim.com
SUMMARY:Nevada TIM SHRP2 4-HourTraining Class – Reno
DESCRIPTION:Please join us in Reno\, NV for the SHRP2 4-hr TIM Training Class which will be held in-person. This class is a free class that is focused on enhancing knowledge to be used at crash incidents. Knowledge will include scene awareness\, traffic management\, communication\, and other items that will help all first responders while they work & clear the scene. There is no cost to attend this very worthwhile class. We look forward to seeing you. Here are the details: \nAGC Building – Reno \n5400 Mill St.\, Reno\, NV 89502 \n  \nTo register for the class or other information\, please contact: \n  \nDavid Strawn (Parsons)                          Capt. Travis Bertrand (RFD) \ndavid.strawn@parsons.com                  BertrandT@reno.gov \nOffice: (702) 789-2027                             Office: (775) 334-2300 \nCell: (702) 885-4944                                Cell: (775) 232-5168 \n  \n 
URL:https://nvtim.com/event/nevada-tim-shrp2-4-hourtraining-class-reno-17/
END:VEVENT
BEGIN:VEVENT
DTSTART;TZID=America/Los_Angeles:20260429T080000
DTEND;TZID=America/Los_Angeles:20260429T140000
DTSTAMP:20260425T052309
CREATED:20260420T190727Z
LAST-MODIFIED:20260420T190727Z
UID:45227-1777449600-1777471200@nvtim.com
SUMMARY:Nevada TIM SHRP2 4-HourTraining Class – Reno / Train the Trainer
DESCRIPTION:Please join us in Reno for the SHRP2 4-hr TIM Train the Trainer Class which will be held in-person. This class is a free class that is focused on enhancing knowledge to be used at crash incidents. Knowledge will include scene awareness\, traffic management\, communication\, and other items that will help all first responders while they work & clear the scene. There is no cost to attend this very worthwhile class. We look forward to seeing you. Here are the details: \nAGC Building – Reno \n5400 Mill St.\, Reno\, NV 89502 \n  \nTo register for the class or other information\, please contact: \n  \nDavid Strawn (Parsons)                          Capt. Travis Bertrand (RFD) \ndavid.strawn@parsons.com                  BertrandT@reno.gov \nOffice: (702) 789-2027                             Office: (775) 334-2300 \nCell: (702) 885-4944                                Cell: (775) 232-5168 \n 
URL:https://nvtim.com/event/nevada-tim-shrp2-4-hourtraining-class-reno-train-the-trainer/
END:VEVENT
END:VCALENDAR