BEGIN:VCALENDAR
VERSION:2.0
PRODID:-//NVTIM - Nevada Traffic Incident Management - ECPv6.15.20//NONSGML v1.0//EN
CALSCALE:GREGORIAN
METHOD:PUBLISH
X-ORIGINAL-URL:https://nvtim.com
X-WR-CALDESC:Events for NVTIM - Nevada Traffic Incident Management
REFRESH-INTERVAL;VALUE=DURATION:PT1H
X-Robots-Tag:noindex
X-PUBLISHED-TTL:PT1H
BEGIN:VTIMEZONE
TZID:America/Los_Angeles
BEGIN:DAYLIGHT
TZOFFSETFROM:-0800
TZOFFSETTO:-0700
TZNAME:PDT
DTSTART:20250309T100000
END:DAYLIGHT
BEGIN:STANDARD
TZOFFSETFROM:-0700
TZOFFSETTO:-0800
TZNAME:PST
DTSTART:20251102T090000
END:STANDARD
BEGIN:DAYLIGHT
TZOFFSETFROM:-0800
TZOFFSETTO:-0700
TZNAME:PDT
DTSTART:20260308T100000
END:DAYLIGHT
BEGIN:STANDARD
TZOFFSETFROM:-0700
TZOFFSETTO:-0800
TZNAME:PST
DTSTART:20261101T090000
END:STANDARD
BEGIN:DAYLIGHT
TZOFFSETFROM:-0800
TZOFFSETTO:-0700
TZNAME:PDT
DTSTART:20270314T100000
END:DAYLIGHT
BEGIN:STANDARD
TZOFFSETFROM:-0700
TZOFFSETTO:-0800
TZNAME:PST
DTSTART:20271107T090000
END:STANDARD
END:VTIMEZONE
BEGIN:VEVENT
DTSTART;TZID=America/Los_Angeles:20260513T080000
DTEND;TZID=America/Los_Angeles:20260513T120000
DTSTAMP:20260425T052302
CREATED:20260420T180555Z
LAST-MODIFIED:20260420T183022Z
UID:45215-1778659200-1778673600@nvtim.com
SUMMARY:Nevada SHRP2 TIM 4-Hour Training Class – Las Vegas
DESCRIPTION:Please join us in Las Vegas for the SHRP2 4-hr TIM Training Class which will be held in-person. This class is a free class that is focused on enhancing knowledge to be used at crash incidents. Knowledge will include scene awareness\, traffic management\, communication\, and other items that will help all first responders while they work & clear the scene. There is no cost to attend this very worthwhile class. We look forward to seeing you. \nHere are the details: \nNDOT TMC / Tonopah Conference Room / A105 \n4615 W. Sunset Road\, Las Vegas\, NV 89118 \n  \nTo register for the class or other information\, please contact: \n  \nDavid Strawn (Parsons) \ndavid.strawn@parsons.com \nOffice: (702) 789-2027 \nCell: (702) 885-4944
URL:https://nvtim.com/event/nevada-shrp2-tim-4-hour-training-class-las-vegas-20/
END:VEVENT
END:VCALENDAR